BEGIN:VCALENDAR
CALSCALE:GREGORIAN
VERSION:2.0
METHOD:PUBLISH
PRODID:-//dmpi BW//Linux//EN
BEGIN:VEVENT
CREATED:20251126T131144Z
UID:6a677db83cdb35a6f91f4fb954dd8ac1
TRANSP:OPAQUE
DTSTART:20260928T070000Z
DTEND:20260928T103000Z
CATEGORIES:Seminar
SUMMARY:KI-Power fürs Office: Prompt-Optimierung für smarte Formulier
 ungen
DTSTAMP:20251126T131144Z
SEQUENCE:0
END:VEVENT
END:VCALENDAR
